BEGIN:VCALENDAR
PRODID:-//github.com/rianjs/ical.net//NONSGML ical.net 4.0//EN
VERSION:2.0
BEGIN:VEVENT
DESCRIPTION:‘No Time to Die’   Presented by the Rotary Club of Wandin Inc.
  being considered  for showing on the revised release date Friday 8 Octob
 er 2021 - to be confirmed Croydon Theatre Cinemas 3 Hewish Road Croydon S
 creening start 6:30 pm\, Doors open 6:15 pm\, Subject to Covid – 19 restr
 ictions and theatre management. Cost (to be advised) per ticket to help f
 und the  Taveuni (Fiji) Eye Surgery project. Additional donations accepte
 d. Booking details to be advised    For further information email Brian H
 odgson at brianhodgson47@gmail.com
DTEND:20211007T130000Z
DTSTAMP:20210301T030836Z
DTSTART:20211008T071500Z
LOCATION:Croydon Theatres Cinema One
SEQUENCE:1
SUMMARY:‘No Time to Die’
UID:f3be1c11-e4f4-4b1f-a237-9be40f4a3bae
X-ALT-DESC:<div style="text-align: center\;"><span style="font-size:14px">
 <span style="font-family:tahoma\,geneva\,sans-serif"><span style="color:#
 000000"><strong>&lsquo\;No Time to Die&rsquo\;</strong></span></span></sp
 an></div>\n\n<div style="text-align: center\;">&nbsp\;</div>\n\n<div styl
 e="text-align: center\;">\n<p align="center"><span style="font-size:14px\
 ;"><span style="font-family:tahoma\,geneva\,sans-serif\;">Presented by th
 e</span></span></p>\n\n<p align="center"><span style="font-size:14px\;"><
 span style="font-family:tahoma\,geneva\,sans-serif\;">Rotary Club of Wand
 in Inc.</span></span></p>\n\n<p align="center"><span style="font-size:14p
 x\;"><span style="font-family:tahoma\,geneva\,sans-serif\;">being conside
 red&nbsp\; for showing on the revised release date</span></span></p>\n\n<
 p align="center"><span style="font-size:14px\;"><span style="font-family:
 tahoma\,geneva\,sans-serif\;"><strong>Friday 8 October 2021 - to be confi
 rmed</strong></span></span></p>\n\n<p align="center"><span style="font-si
 ze:14px\;"><span style="font-family:tahoma\,geneva\,sans-serif\;">Croydon
  Theatre Cinemas</span></span></p>\n\n<p align="center"><span style="font
 -size:14px\;"><span style="font-family:tahoma\,geneva\,sans-serif\;">3 He
 wish Road Croydon</span></span></p>\n\n<p align="center"><span style="fon
 t-size:14px\;"><span style="font-family:tahoma\,geneva\,sans-serif\;">Scr
 eening start 6:30 pm\,</span></span></p>\n\n<p align="center"><span style
 ="font-size:14px\;"><span style="font-family:tahoma\,geneva\,sans-serif\;
 ">Doors open 6:15 pm\,</span></span></p>\n\n<p align="center"><span style
 ="font-size:14px\;"><span style="font-family:tahoma\,geneva\,sans-serif\;
 ">Subject to Covid &ndash\; 19 restrictions and theatre management.</span
 ></span></p>\n\n<p align="center"><span style="font-size:14px\;"><span st
 yle="font-family:tahoma\,geneva\,sans-serif\;">Cost (to be advised) per t
 icket to help fund the</span></span></p>\n\n<p align="center"><span style
 ="font-size:14px\;"><span style="font-family:tahoma\,geneva\,sans-serif\;
 ">&nbsp\;Taveuni (Fiji) Eye Surgery project.</span></span></p>\n\n<p alig
 n="center"><span style="font-size:14px\;"><span style="font-family:tahoma
 \,geneva\,sans-serif\;">Additional donations accepted.</span></span></p>\
 n\n<p align="center"><span style="font-size:14px\;"><span style="font-fam
 ily:tahoma\,geneva\,sans-serif\;"><strong>Booking details to be advised</
 strong></span></span></p>\n</div>\n\n<div>&nbsp\;</div>\n\n<div style="te
 xt-align: center\;"><span style="color:#000000"><span style="font-size:14
 px"><span style="font-family:tahoma\,geneva\,sans-serif">For further info
 rmation email Brian Hodgson at</span></span>&nbsp\;</span><span style="fo
 nt-size:14px"><span style="font-family:tahoma\,geneva\,sans-serif"><a hre
 f="mailto:brianhodgson47@gmail.com">brianhodgson47@gmail.com</a></span></
 span></div>\n
END:VEVENT
END:VCALENDAR
