BEGIN:VCALENDAR
PRODID:-//github.com/rianjs/ical.net//NONSGML ical.net 4.0//EN
VERSION:2.0
BEGIN:VEVENT
DESCRIPTION:The Rotary Club of Ferntree Gully invite you to their Meeting 
 on the Thursday 25th February They will have Tammy Shepherd from Mercy Sh
 ips Australia as thier guest speaker The meeting will be via Zoom and com
 mences at 6:30 pm   The club will circulate the login details a couple of
  days before the scheduled date\, those wishing to attend the zoom meetin
 g should send their email address to the zoom host Christine Anderson @ a
 nderson4rotary@gmail.com
DTEND:20210224T130000Z
DTSTAMP:20210301T030818Z
DTSTART:20210225T073000Z
LOCATION:Zoom
SEQUENCE:1
SUMMARY:Guest Speaker - Mercy Ships Australia
UID:75f41de8-23f2-4657-94dd-834e54984f8f
X-ALT-DESC:<p style="text-align: center\;"><span style="font-size:14px\;">
 <span style="font-family:tahoma\,geneva\,sans-serif\;">The Rotary Club of
  Ferntree Gully invite you to their Meeting on the Thursday 25th February
 </span></span></p>\n\n<p style="text-align: center\;"><span style="font-s
 ize:14px\;"><span style="font-family:tahoma\,geneva\,sans-serif\;">They w
 ill have&nbsp\;Tammy Shepherd&nbsp\;from Mercy Ships Australia as thier g
 uest speaker</span></span></p>\n\n<p style="text-align: center\;"><span s
 tyle="font-size:14px\;"><span style="font-family:tahoma\,geneva\,sans-ser
 if\;">The meeting will be via Zoom and commences at 6:30 pm</span></span>
 </p>\n\n<p style="text-align: center\;">&nbsp\;</p>\n\n<p style="text-ali
 gn: center\;"><span style="font-size:14px\;"><span style="font-family:tah
 oma\,geneva\,sans-serif\;">The club will circulate the login details a co
 uple of days before the scheduled date\, those wishing to attend the zoom
  meeting should send their email address to the zoom host <strong>Christi
 ne Anderson @&nbsp\;<a href="mailto:anderson4rotary@gmail.com">anderson4r
 otary@gmail.com</a></strong></span></span></p>\n\n<p>&nbsp\;</p>\n
END:VEVENT
END:VCALENDAR
