BEGIN:VCALENDAR
PRODID:-//github.com/rianjs/ical.net//NONSGML ical.net 4.0//EN
VERSION:2.0
BEGIN:VEVENT
DESCRIPTION:Rotarians Against Malaria are proud to be associated with the 
 Walter and Eliza Hall Institute.  The Rotary Club of Doncaster is hosting
   WEHI scientist    Professor Ivo Mueller speaking on the latest research
  in Malaria :  Eliminating P.vivax from Asia-Pacific .  The challenges\, 
 opportunities and new approaches.  Please join us Wednesday 25 November a
 t 7 PM.     https://us02web.zoom.us/j/5123507241?pwd=d2hJdWY5aHRQbnpJY2Fj
 S05ZamMwdz09 Meeting ID: 512 350 7241 Passcode: Rotary20
DTEND:20201124T130000Z
DTSTAMP:20210301T030800Z
DTSTART:20201125T080000Z
LOCATION:Zoom
SEQUENCE:1
SUMMARY:WEHI - Research into Malaria
UID:4d15604c-025d-4348-a918-ff80acbe302b
X-ALT-DESC:<p><span style="font-size:14px\;"><span style="font-family:taho
 ma\,geneva\,sans-serif\;">Rotarians Against&nbsp\;Malaria are proud to be
  associated with the Walter and Eliza Hall Institute.&nbsp\; The Rotary C
 lub of Doncaster is hosting&nbsp\; WEHI scientist&nbsp\; &nbsp\; Professo
 r Ivo Mueller speaking on the latest research in Malaria :&nbsp\; Elimina
 ting P.vivax from Asia-Pacific .&nbsp\; The challenges\, opportunities an
 d new approaches.&nbsp\; Please join us Wednesday 25 November at 7 PM.&nb
 sp\;&nbsp\;</span></span></p>\n\n<p>&nbsp\;</p>\n\n<p><span style="font-s
 ize:14px\;"><span style="font-family:tahoma\,geneva\,sans-serif\;"><a hre
 f="https://us02web.zoom.us/j/5123507241?pwd=d2hJdWY5aHRQbnpJY2FjS05ZamMwd
 z09" target="_blank">https://us02web.zoom.us/j/5123507241?pwd=d2hJdWY5aHR
 QbnpJY2FjS05ZamMwdz09</a></span></span></p>\n\n<p><span style="font-size:
 14px\;"><span style="font-family:tahoma\,geneva\,sans-serif\;">Meeting ID
 : 512 350 7241</span></span></p>\n\n<p><span style="font-size:14px\;"><sp
 an style="font-family:tahoma\,geneva\,sans-serif\;">Passcode: Rotary20</s
 pan></span></p>\n
END:VEVENT
END:VCALENDAR
