BEGIN:VCALENDAR
PRODID:-//github.com/rianjs/ical.net//NONSGML ical.net 4.0//EN
VERSION:2.0
BEGIN:VEVENT
DESCRIPTION:The Rotary District 9810 Sustainable Communities Committee inv
 ites you to its Annual Seed Sowing Day Saturday Feb 13th at 10am-2pm 7 Ru
 tland Ave\, Templestowe (Home of Committee Chair Pat Armstrong) Lunch wil
 l be provided. Please bring a reusable water bottle and mug for tea/coffe
 e. We will have sunscreen and spare disposable gloves\, but please bring 
 your own if you prefer. Please RSVP your attendance and any dietary requi
 rements to Pat by Thursday 11th Feb on 0419381 790 or pat.arm@bigpond.net
 .au Due to recent changes to COVID restrictions\, your RSVP is very impor
 tant to ensure we all remain safe. We will be working outside with plenty
  of room to socially distance. Please bring a face mask. • Our seedlings 
 will be planted on private farmland in the Beaufort area\, supporting Lan
 dcare’s efforts to create wildlife corridors and prevent erosion. • Indiv
 idual volunteers are needed to look after boxes of seedlings until planti
 ng in late July. • If you/your club would like to be part of planting out
  the tree seedlings for our Tree Project in 2021\, please be in touch wit
 h the 9810 Sustainable Communities Committee.
DTEND:20210213T030000Z
DTSTAMP:20210301T030808Z
DTSTART:20210212T230000Z
LOCATION:
SEQUENCE:1
SUMMARY:Annual Seed Sowing Day
UID:4cce8634-069d-4eb2-b0b7-a1ee0824a0a6
X-ALT-DESC:<p style="text-align: center\;"><span style="font-size:14px\;">
 <span style="font-family:tahoma\,geneva\,sans-serif\;">The Rotary Distric
 t 9810 Sustainable Communities<br />\nCommittee invites you to its<br />\
 nAnnual Seed Sowing Day</span></span></p>\n\n<p style="text-align: center
 \;"><br />\n<span style="font-size:14px\;"><span style="font-family:tahom
 a\,geneva\,sans-serif\;">Saturday Feb 13th at 10am-2pm<br />\n7 Rutland A
 ve\, Templestowe<br />\n(Home of Committee Chair Pat Armstrong)</span></s
 pan></p>\n\n<p style="text-align: center\;"><br />\n<span style="font-siz
 e:14px\;"><span style="font-family:tahoma\,geneva\,sans-serif\;">Lunch wi
 ll be provided. Please bring a reusable water bottle<br />\nand mug for t
 ea/coffee. We will have sunscreen and spare<br />\ndisposable gloves\, bu
 t please bring your own if you prefer.</span></span></p>\n\n<p style="tex
 t-align: center\;"><br />\n<span style="font-size:14px\;"><span style="fo
 nt-family:tahoma\,geneva\,sans-serif\;">Please RSVP your attendance and a
 ny dietary requirements<br />\nto Pat by Thursday 11th Feb on 0419381 790
  or<br />\npat.arm@bigpond.net.au</span></span></p>\n\n<p style="text-ali
 gn: center\;"><br />\n<span style="font-size:14px\;"><span style="font-fa
 mily:tahoma\,geneva\,sans-serif\;">Due to recent changes to COVID restric
 tions\, your RSVP is<br />\nvery important to ensure we all remain safe. 
 We will be<br />\nworking outside with plenty of room to socially distanc
 e.<br />\nPlease bring a face mask.</span></span></p>\n\n<p style="text-a
 lign: center\;"><br />\n<span style="font-size:14px\;"><span style="font-
 family:tahoma\,geneva\,sans-serif\;">&bull\; Our seedlings will be plante
 d on private farmland in the Beaufort area\,<br />\nsupporting Landcare&r
 squo\;s efforts to create wildlife corridors and prevent<br />\nerosion.<
 br />\n&bull\; Individual volunteers are needed to look after boxes of se
 edlings until<br />\nplanting in late July.<br />\n&bull\; If you/your cl
 ub would like to be part of planting out the tree seedlings<br />\nfor ou
 r Tree Project in 2021\, please be in touch with the 9810<br />\nSustaina
 ble Communities Committee.</span></span></p>\n
END:VEVENT
END:VCALENDAR
