BEGIN:VCALENDAR
PRODID:-//github.com/rianjs/ical.net//NONSGML ical.net 4.0//EN
VERSION:2.0
BEGIN:VEVENT
DESCRIPTION:The Rotary Club of Mordialloc has decided to cancel the Gnome 
 and Fairy Festival due to be held on Sunday 14th March\, 2021.   We have 
 been working with the Victorian Department of Health and Human Services t
 owards providing a safe Festival\, however at this time there are too man
 y uncertainties due to Covid 19 and lockdowns in the near future are unpr
 edictable.   We will review our decision mid-year for a possible October/
 November date and hopefully we will be able to proceed with more certaint
 y then.   Thank you to all of those people who have been working with us 
 in the preplanning over the last six months including sponsors\, charity 
 stall holders\, entertainers\, our members and friends.   Regards Ernie W
 illiams Projects Director Rotary Club oof Mordialloc
DTEND:20210314T050000Z
DTSTAMP:20210301T030828Z
DTSTART:20210313T230000Z
LOCATION:George Woods Reserve
SEQUENCE:1
SUMMARY:GNOME & FAIRY FESTIVAL - CANCELLED
UID:0e24bb95-18f9-4240-9044-741f941df513
X-ALT-DESC:<p><span style="font-size:14px\;"><span style="font-family:taho
 ma\,geneva\,sans-serif\;">The Rotary Club of Mordialloc has decided to ca
 ncel the Gnome and Fairy Festival due to be held on Sunday 14<sup>th</sup
 > March\, 2021.</span></span></p>\n\n<p>&nbsp\;</p>\n\n<p><span style="fo
 nt-size:14px\;"><span style="font-family:tahoma\,geneva\,sans-serif\;">We
  have been working with the Victorian Department of Health and Human Serv
 ices towards providing a safe Festival\, however at this time there are t
 oo many uncertainties due to Covid 19 and lockdowns in the near future ar
 e unpredictable.</span></span></p>\n\n<p>&nbsp\;</p>\n\n<p><span style="f
 ont-size:14px\;"><span style="font-family:tahoma\,geneva\,sans-serif\;">W
 e will review our decision mid-year for a possible October/November date 
 and hopefully we will be able to proceed with more certainty then.</span>
 </span></p>\n\n<p>&nbsp\;</p>\n\n<p><span style="font-size:14px\;"><span 
 style="font-family:tahoma\,geneva\,sans-serif\;">Thank you to all of thos
 e people who have been working with us in the preplanning over the last s
 ix months including sponsors\, charity stall holders\, entertainers\, our
  members and friends.</span></span></p>\n\n<p>&nbsp\;</p>\n\n<p><span sty
 le="font-size:14px\;"><span style="font-family:tahoma\,geneva\,sans-serif
 \;">Regards Ernie Williams</span></span></p>\n\n<p><span style="font-size
 :14px\;"><span style="font-family:tahoma\,geneva\,sans-serif\;">Projects 
 Director</span></span></p>\n\n<p><span style="font-size:14px\;"><span sty
 le="font-family:tahoma\,geneva\,sans-serif\;">Rotary Club oof Mordialloc<
 /span></span></p>\n\n<p>&nbsp\;</p>\n
END:VEVENT
END:VCALENDAR
